BEGIN:VCALENDAR
VERSION:2.0
PRODID:-//Pfadfinder Schwanenstadt - ECPv6.15.16//NONSGML v1.0//EN
CALSCALE:GREGORIAN
METHOD:PUBLISH
X-ORIGINAL-URL:https://www.pfadfinder-schwanenstadt.at
X-WR-CALDESC:Veranstaltungen für Pfadfinder Schwanenstadt
REFRESH-INTERVAL;VALUE=DURATION:PT1H
X-Robots-Tag:noindex
X-PUBLISHED-TTL:PT1H
BEGIN:VTIMEZONE
TZID:Europe/Vienna
BEGIN:DAYLIGHT
TZOFFSETFROM:+0100
TZOFFSETTO:+0200
TZNAME:CEST
DTSTART:20250330T010000
END:DAYLIGHT
BEGIN:STANDARD
TZOFFSETFROM:+0200
TZOFFSETTO:+0100
TZNAME:CET
DTSTART:20251026T010000
END:STANDARD
BEGIN:DAYLIGHT
TZOFFSETFROM:+0100
TZOFFSETTO:+0200
TZNAME:CEST
DTSTART:20260329T010000
END:DAYLIGHT
BEGIN:STANDARD
TZOFFSETFROM:+0200
TZOFFSETTO:+0100
TZNAME:CET
DTSTART:20261025T010000
END:STANDARD
BEGIN:DAYLIGHT
TZOFFSETFROM:+0100
TZOFFSETTO:+0200
TZNAME:CEST
DTSTART:20270328T010000
END:DAYLIGHT
BEGIN:STANDARD
TZOFFSETFROM:+0200
TZOFFSETTO:+0100
TZNAME:CET
DTSTART:20271031T010000
END:STANDARD
END:VTIMEZONE
BEGIN:VEVENT
DTSTART;TZID=Europe/Vienna:20260522T080000
DTEND;TZID=Europe/Vienna:20260526T170000
DTSTAMP:20260420T145649
CREATED:20260221T064808Z
LAST-MODIFIED:20260221T064808Z
UID:1259-1779436800-1779814800@www.pfadfinder-schwanenstadt.at
SUMMARY:Heim reserviert
DESCRIPTION:
URL:https://www.pfadfinder-schwanenstadt.at/reservation/heim-reserviert/
LOCATION:Heim\, Steiningerstraße 8\, Schwanenstadt\, Oberösterreich\, 4690\, Austria
END:VEVENT
BEGIN:VEVENT
DTSTART;TZID=Europe/Vienna:20260711T080000
DTEND;TZID=Europe/Vienna:20260717T170000
DTSTAMP:20260420T145649
CREATED:20260221T073217Z
LAST-MODIFIED:20260221T073327Z
UID:1262-1783756800-1784307600@www.pfadfinder-schwanenstadt.at
SUMMARY:Heim reserviert
DESCRIPTION:
URL:https://www.pfadfinder-schwanenstadt.at/reservation/heim-reserviert-2/
LOCATION:Heim\, Steiningerstraße 8\, Schwanenstadt\, Oberösterreich\, 4690\, Austria
END:VEVENT
BEGIN:VEVENT
DTSTART;TZID=Europe/Vienna:20260711T080000
DTEND;TZID=Europe/Vienna:20260717T170000
DTSTAMP:20260420T145649
CREATED:20260221T073404Z
LAST-MODIFIED:20260221T073404Z
UID:1265-1783756800-1784307600@www.pfadfinder-schwanenstadt.at
SUMMARY:Lagerplatz reserviert
DESCRIPTION:
URL:https://www.pfadfinder-schwanenstadt.at/reservation/lagerplatz-reserviert/
LOCATION:Lagerplatz\, Jebing\, Oberösterreich\, 4846\, Austria
END:VEVENT
BEGIN:VEVENT
DTSTART;TZID=Europe/Vienna:20260718T080000
DTEND;TZID=Europe/Vienna:20260725T170000
DTSTAMP:20260420T145649
CREATED:20260221T073432Z
LAST-MODIFIED:20260221T073432Z
UID:1267-1784361600-1784998800@www.pfadfinder-schwanenstadt.at
SUMMARY:Lagerplatz reserviert
DESCRIPTION:
URL:https://www.pfadfinder-schwanenstadt.at/reservation/lagerplatz-reserviert-2/
LOCATION:Lagerplatz\, Jebing\, Oberösterreich\, 4846\, Austria
END:VEVENT
BEGIN:VEVENT
DTSTART;TZID=Europe/Vienna:20260725T080000
DTEND;TZID=Europe/Vienna:20260801T170000
DTSTAMP:20260420T145649
CREATED:20260221T073459Z
LAST-MODIFIED:20260221T073459Z
UID:1269-1784966400-1785603600@www.pfadfinder-schwanenstadt.at
SUMMARY:Heim & Lagerplatz reserviert
DESCRIPTION:
URL:https://www.pfadfinder-schwanenstadt.at/reservation/heim-lagerplatz-reserviert/
LOCATION:Heim & Lagerplatz\, Steiningerstraße 8\, Schwanenstadt\, Oberösterreich\, 4690\, Austria
END:VEVENT
BEGIN:VEVENT
DTSTART;TZID=Europe/Vienna:20260822T080000
DTEND;TZID=Europe/Vienna:20260829T170000
DTSTAMP:20260420T145649
CREATED:20260221T073525Z
LAST-MODIFIED:20260221T073525Z
UID:1271-1787385600-1788022800@www.pfadfinder-schwanenstadt.at
SUMMARY:Heim reserviert
DESCRIPTION:
URL:https://www.pfadfinder-schwanenstadt.at/reservation/heim-reserviert-3/
LOCATION:Heim\, Steiningerstraße 8\, Schwanenstadt\, Oberösterreich\, 4690\, Austria
END:VEVENT
END:VCALENDAR